BEGIN:VCALENDAR
VERSION:2.0
PRODID:-//DeAnza Lions Club - ECPv6.15.20//NONSGML v1.0//EN
CALSCALE:GREGORIAN
METHOD:PUBLISH
X-WR-CALNAME:DeAnza Lions Club
X-ORIGINAL-URL:https://deanzalions.net
X-WR-CALDESC:Events for DeAnza Lions Club
REFRESH-INTERVAL;VALUE=DURATION:PT1H
X-Robots-Tag:noindex
X-PUBLISHED-TTL:PT1H
BEGIN:VTIMEZONE
TZID:America/Los_Angeles
BEGIN:DAYLIGHT
TZOFFSETFROM:-0800
TZOFFSETTO:-0700
TZNAME:PDT
DTSTART:20240310T100000
END:DAYLIGHT
BEGIN:STANDARD
TZOFFSETFROM:-0700
TZOFFSETTO:-0800
TZNAME:PST
DTSTART:20241103T090000
END:STANDARD
BEGIN:DAYLIGHT
TZOFFSETFROM:-0800
TZOFFSETTO:-0700
TZNAME:PDT
DTSTART:20250309T100000
END:DAYLIGHT
BEGIN:STANDARD
TZOFFSETFROM:-0700
TZOFFSETTO:-0800
TZNAME:PST
DTSTART:20251102T090000
END:STANDARD
BEGIN:DAYLIGHT
TZOFFSETFROM:-0800
TZOFFSETTO:-0700
TZNAME:PDT
DTSTART:20260308T100000
END:DAYLIGHT
BEGIN:STANDARD
TZOFFSETFROM:-0700
TZOFFSETTO:-0800
TZNAME:PST
DTSTART:20261101T090000
END:STANDARD
END:VTIMEZONE
BEGIN:VEVENT
DTSTART;TZID=America/Los_Angeles:20250702T183000
DTEND;TZID=America/Los_Angeles:20250702T193000
DTSTAMP:20260425T051856
CREATED:20250429T000720Z
LAST-MODIFIED:20250429T000720Z
UID:8891-1751481000-1751484600@deanzalions.net
SUMMARY:PM Group meeting
DESCRIPTION:
URL:https://deanzalions.net/event/pm-group-meeting-3/
LOCATION:Tony & Alba’s Pizza & Pasta\, 3137 Stevens Creek Blvd\, San Jose\, CA\, 95117\, United States
CATEGORIES:Meeting
END:VEVENT
BEGIN:VEVENT
DTSTART;TZID=America/Los_Angeles:20250703T090000
DTEND;TZID=America/Los_Angeles:20250703T100000
DTSTAMP:20260425T051856
CREATED:20250429T000755Z
LAST-MODIFIED:20250429T000755Z
UID:8894-1751533200-1751536800@deanzalions.net
SUMMARY:AM Group meeting
DESCRIPTION:
URL:https://deanzalions.net/event/am-group-meeting-11/
LOCATION:IHOP\, 1012 Miller Avenue\, San Jose\, CA\, 95129\, United States
CATEGORIES:Meeting
END:VEVENT
BEGIN:VEVENT
DTSTART;TZID=America/Los_Angeles:20250709T183000
DTEND;TZID=America/Los_Angeles:20250709T193000
DTSTAMP:20260425T051856
CREATED:20250708T033504Z
LAST-MODIFIED:20250708T033504Z
UID:8987-1752085800-1752089400@deanzalions.net
SUMMARY:PM meeting
DESCRIPTION:Monthly PM meeting
URL:https://deanzalions.net/event/pm-meeting/
LOCATION:Tony & Alba’s Pizza & Pasta\, 3137 Stevens Creek Blvd\, San Jose\, CA\, 95117\, United States
CATEGORIES:Meeting
END:VEVENT
BEGIN:VEVENT
DTSTART;TZID=America/Los_Angeles:20250710T090000
DTEND;TZID=America/Los_Angeles:20250710T100000
DTSTAMP:20260425T051856
CREATED:20250708T033404Z
LAST-MODIFIED:20250708T033404Z
UID:8984-1752138000-1752141600@deanzalions.net
SUMMARY:AM meeting
DESCRIPTION:
URL:https://deanzalions.net/event/am-meeting/
LOCATION:IHOP\, 1012 Miller Avenue\, San Jose\, CA\, 95129\, United States
CATEGORIES:Meeting
END:VEVENT
BEGIN:VEVENT
DTSTART;TZID=America/Los_Angeles:20250716T183000
DTEND;TZID=America/Los_Angeles:20250716T193000
DTSTAMP:20260425T051856
CREATED:20250429T000828Z
LAST-MODIFIED:20250429T000828Z
UID:8897-1752690600-1752694200@deanzalions.net
SUMMARY:Board of Directors meeting
DESCRIPTION:
URL:https://deanzalions.net/event/board-of-directors-meeting-3/
LOCATION:Ray Lancon’s home\, 7548 Leeds Ave\, Cupertino\, CA\, 95014\, United States
CATEGORIES:Meeting
END:VEVENT
BEGIN:VEVENT
DTSTART;TZID=America/Los_Angeles:20250717T090000
DTEND;TZID=America/Los_Angeles:20250717T100000
DTSTAMP:20260425T051856
CREATED:20250708T033715Z
LAST-MODIFIED:20250708T033715Z
UID:8990-1752742800-1752746400@deanzalions.net
SUMMARY:AM meeting
DESCRIPTION:Weekly AM meeting
URL:https://deanzalions.net/event/am-meeting-2/
LOCATION:IHOP\, 1012 Miller Avenue\, San Jose\, CA\, 95129\, United States
CATEGORIES:Meeting
END:VEVENT
BEGIN:VEVENT
DTSTART;TZID=America/Los_Angeles:20250724T090000
DTEND;TZID=America/Los_Angeles:20250724T100000
DTSTAMP:20260425T051856
CREATED:20250708T034004Z
LAST-MODIFIED:20250708T034004Z
UID:8996-1753347600-1753351200@deanzalions.net
SUMMARY:AM meeting
DESCRIPTION:Weekly AM meeting
URL:https://deanzalions.net/event/am-meeting-4/
LOCATION:IHOP\, 1012 Miller Avenue\, San Jose\, CA\, 95129\, United States
CATEGORIES:Meeting
END:VEVENT
BEGIN:VEVENT
DTSTART;TZID=America/Los_Angeles:20250726T140000
DTEND;TZID=America/Los_Angeles:20250726T180000
DTSTAMP:20260425T051856
CREATED:20250708T034240Z
LAST-MODIFIED:20250708T034240Z
UID:8999-1753538400-1753552800@deanzalions.net
SUMMARY:Induction of new officers
DESCRIPTION:Installation of officers 2025-2026
URL:https://deanzalions.net/event/induction-of-new-officers/
CATEGORIES:Meeting
END:VEVENT
BEGIN:VEVENT
DTSTART;TZID=America/Los_Angeles:20250731T090000
DTEND;TZID=America/Los_Angeles:20250731T100000
DTSTAMP:20260425T051856
CREATED:20250708T033815Z
LAST-MODIFIED:20250708T033835Z
UID:8993-1753952400-1753956000@deanzalions.net
SUMMARY:AM meeting
DESCRIPTION:Weekly AM meeting
URL:https://deanzalions.net/event/am-meeting-3/
LOCATION:IHOP\, 1012 Miller Avenue\, San Jose\, CA\, 95129\, United States
CATEGORIES:Meeting
END:VEVENT
END:VCALENDAR