BEGIN:VCALENDAR
VERSION:2.0
PRODID:-//DeAnza Lions Club - ECPv6.15.20//NONSGML v1.0//EN
CALSCALE:GREGORIAN
METHOD:PUBLISH
X-ORIGINAL-URL:https://deanzalions.net
X-WR-CALDESC:Events for DeAnza Lions Club
REFRESH-INTERVAL;VALUE=DURATION:PT1H
X-Robots-Tag:noindex
X-PUBLISHED-TTL:PT1H
BEGIN:VTIMEZONE
TZID:America/Los_Angeles
BEGIN:DAYLIGHT
TZOFFSETFROM:-0800
TZOFFSETTO:-0700
TZNAME:PDT
DTSTART:20240310T100000
END:DAYLIGHT
BEGIN:STANDARD
TZOFFSETFROM:-0700
TZOFFSETTO:-0800
TZNAME:PST
DTSTART:20241103T090000
END:STANDARD
BEGIN:DAYLIGHT
TZOFFSETFROM:-0800
TZOFFSETTO:-0700
TZNAME:PDT
DTSTART:20250309T100000
END:DAYLIGHT
BEGIN:STANDARD
TZOFFSETFROM:-0700
TZOFFSETTO:-0800
TZNAME:PST
DTSTART:20251102T090000
END:STANDARD
BEGIN:DAYLIGHT
TZOFFSETFROM:-0800
TZOFFSETTO:-0700
TZNAME:PDT
DTSTART:20260308T100000
END:DAYLIGHT
BEGIN:STANDARD
TZOFFSETFROM:-0700
TZOFFSETTO:-0800
TZNAME:PST
DTSTART:20261101T090000
END:STANDARD
END:VTIMEZONE
BEGIN:VEVENT
DTSTART;TZID=America/Los_Angeles:20250501T090000
DTEND;TZID=America/Los_Angeles:20250501T100000
DTSTAMP:20260425T083644
CREATED:20250428T235559Z
LAST-MODIFIED:20250428T235559Z
UID:8847-1746090000-1746093600@deanzalions.net
SUMMARY:AM Group Meeting
DESCRIPTION:
URL:https://deanzalions.net/event/am-group-meeting-2/
LOCATION:IHOP\, 1012 Miller Avenue\, San Jose\, CA\, 95129\, United States
CATEGORIES:Meeting
END:VEVENT
BEGIN:VEVENT
DTSTART;TZID=America/Los_Angeles:20250507T183000
DTEND;TZID=America/Los_Angeles:20250507T193000
DTSTAMP:20260425T083644
CREATED:20250428T235723Z
LAST-MODIFIED:20250428T235723Z
UID:8850-1746642600-1746646200@deanzalions.net
SUMMARY:PM Group meeting
DESCRIPTION:
URL:https://deanzalions.net/event/pm-group-meeting/
LOCATION:Cicero’s Pizza\, 6138 Bollinger RD\, San Jose\, CA\, 95129\, United States
CATEGORIES:Meeting
END:VEVENT
BEGIN:VEVENT
DTSTART;TZID=America/Los_Angeles:20250508T090000
DTEND;TZID=America/Los_Angeles:20250508T100000
DTSTAMP:20260425T083644
CREATED:20250428T235807Z
LAST-MODIFIED:20250428T235807Z
UID:8854-1746694800-1746698400@deanzalions.net
SUMMARY:AM Group meeting
DESCRIPTION:
URL:https://deanzalions.net/event/am-group-meeting-3/
LOCATION:IHOP\, 1012 Miller Avenue\, San Jose\, CA\, 95129\, United States
CATEGORIES:Meeting
END:VEVENT
BEGIN:VEVENT
DTSTART;TZID=America/Los_Angeles:20250515T090000
DTEND;TZID=America/Los_Angeles:20250515T100000
DTSTAMP:20260425T083644
CREATED:20250428T235838Z
LAST-MODIFIED:20250428T235838Z
UID:8857-1747299600-1747303200@deanzalions.net
SUMMARY:AM Group meeting
DESCRIPTION:
URL:https://deanzalions.net/event/am-group-meeting-4/
LOCATION:IHOP\, 1012 Miller Avenue\, San Jose\, CA\, 95129\, United States
CATEGORIES:Meeting
END:VEVENT
BEGIN:VEVENT
DTSTART;TZID=America/Los_Angeles:20250515T180000
DTEND;TZID=America/Los_Angeles:20250515T203000
DTSTAMP:20260425T083644
CREATED:20250421T200545Z
LAST-MODIFIED:20250421T200741Z
UID:8824-1747332000-1747341000@deanzalions.net
SUMMARY:LINUS Blanketeering event
DESCRIPTION:
URL:https://deanzalions.net/event/linus-blanketeering-event/
LOCATION:Odd Fellows Hall # 70\, 20589 Homestead Rd\, Cupertino\, CA\, 95014\, United States
CATEGORIES:LINUS
END:VEVENT
BEGIN:VEVENT
DTSTART;TZID=America/Los_Angeles:20250517T090000
DTEND;TZID=America/Los_Angeles:20250517T140000
DTSTAMP:20260425T083644
CREATED:20250421T200713Z
LAST-MODIFIED:20250421T200713Z
UID:8828-1747472400-1747490400@deanzalions.net
SUMMARY:Eyeglass recycling /cleaning event
DESCRIPTION:
URL:https://deanzalions.net/event/eyeglass-recycling-cleaning-event/
LOCATION:Vista Center\, 101 N Bascom Ave\, San Jose\, CA\, 95128\, United States
CATEGORIES:Eyeglass Recycling
END:VEVENT
BEGIN:VEVENT
DTSTART;TZID=America/Los_Angeles:20250521T183000
DTEND;TZID=America/Los_Angeles:20250521T193000
DTSTAMP:20260425T083644
CREATED:20250428T235950Z
LAST-MODIFIED:20250428T235950Z
UID:8860-1747852200-1747855800@deanzalions.net
SUMMARY:Board of Directors meeting
DESCRIPTION:
URL:https://deanzalions.net/event/board-of-directors-meeting/
LOCATION:Ray Lancon’s home\, 7548 Leeds Ave\, Cupertino\, CA\, 95014\, United States
END:VEVENT
BEGIN:VEVENT
DTSTART;TZID=America/Los_Angeles:20250522T090000
DTEND;TZID=America/Los_Angeles:20250522T100000
DTSTAMP:20260425T083644
CREATED:20250429T000021Z
LAST-MODIFIED:20250429T000021Z
UID:8864-1747904400-1747908000@deanzalions.net
SUMMARY:AM Group meeting
DESCRIPTION:
URL:https://deanzalions.net/event/am-group-meeting-5/
LOCATION:IHOP\, 1012 Miller Avenue\, San Jose\, CA\, 95129\, United States
CATEGORIES:Meeting
END:VEVENT
BEGIN:VEVENT
DTSTART;TZID=America/Los_Angeles:20250529T090000
DTEND;TZID=America/Los_Angeles:20250529T100000
DTSTAMP:20260425T083644
CREATED:20250429T000119Z
LAST-MODIFIED:20250429T000119Z
UID:8867-1748509200-1748512800@deanzalions.net
SUMMARY:AM Group meeting
DESCRIPTION:
URL:https://deanzalions.net/event/am-group-meeting-6/
LOCATION:IHOP\, 1012 Miller Avenue\, San Jose\, CA\, 95129\, United States
CATEGORIES:Meeting
END:VEVENT
END:VCALENDAR